BEGIN:VCALENDAR
VERSION:2.0
PRODID:-//SOUTHERN OHIO FLYING K9s - ECPv6.15.17//NONSGML v1.0//EN
CALSCALE:GREGORIAN
METHOD:PUBLISH
X-WR-CALNAME:SOUTHERN OHIO FLYING K9s
X-ORIGINAL-URL:https://flyingk9s.org
X-WR-CALDESC:Events for SOUTHERN OHIO FLYING K9s
REFRESH-INTERVAL;VALUE=DURATION:PT1H
X-Robots-Tag:noindex
X-PUBLISHED-TTL:PT1H
BEGIN:VTIMEZONE
TZID:America/New_York
BEGIN:DAYLIGHT
TZOFFSETFROM:-0500
TZOFFSETTO:-0400
TZNAME:EDT
DTSTART:20250309T070000
END:DAYLIGHT
BEGIN:STANDARD
TZOFFSETFROM:-0400
TZOFFSETTO:-0500
TZNAME:EST
DTSTART:20251102T060000
END:STANDARD
BEGIN:DAYLIGHT
TZOFFSETFROM:-0500
TZOFFSETTO:-0400
TZNAME:EDT
DTSTART:20260308T070000
END:DAYLIGHT
BEGIN:STANDARD
TZOFFSETFROM:-0400
TZOFFSETTO:-0500
TZNAME:EST
DTSTART:20261101T060000
END:STANDARD
BEGIN:DAYLIGHT
TZOFFSETFROM:-0500
TZOFFSETTO:-0400
TZNAME:EDT
DTSTART:20270314T070000
END:DAYLIGHT
BEGIN:STANDARD
TZOFFSETFROM:-0400
TZOFFSETTO:-0500
TZNAME:EST
DTSTART:20271107T060000
END:STANDARD
END:VTIMEZONE
BEGIN:VEVENT
DTSTART;TZID=America/New_York:20260620T080000
DTEND;TZID=America/New_York:20260621T170000
DTSTAMP:20260423T073606
CREATED:20260119T091118Z
LAST-MODIFIED:20260316T134340Z
UID:199-1781942400-1782061200@flyingk9s.org
SUMMARY:Ohio Cup
DESCRIPTION:Event Overview\n			\n				\n				\n				\n				\n				The Ohio Cup  \nTwo days of disc dog sports – USDDN & AWI \nTO REGISTER:  Click the link at “Website” field below under the “Details” column. That will take you to the JotForm registration form.
URL:https://flyingk9s.org/event/ohio-cup/
LOCATION:Gem City Dog Obedience Club\, 542 Valley Crest Drive\, Dayton\, OH\, United States
ATTACH;FMTTYPE=image/png:https://flyingk9s.org/wp-content/uploads/2026/01/SOFK9-New-Website-Graphics-4-2025-Ohio-Cup.png
ORGANIZER;CN="Southern Ohio Flying K9s":MAILTO:admin@flyingk9s.org
END:VEVENT
BEGIN:VEVENT
DTSTART;TZID=America/New_York:20260725T080000
DTEND;TZID=America/New_York:20260726T170000
DTSTAMP:20260423T073606
CREATED:20260119T090825Z
LAST-MODIFIED:20260307T233734Z
UID:194-1784966400-1785085200@flyingk9s.org
SUMMARY:Buckeye Bash 2026
DESCRIPTION:Event Overview\n			\n				\n				\n				\n				\n				The Buckeye Bash –This is a Skyhoundz Classic & Xtreme Distance Qualifier \nOur 2026 event will be held at the amazing venue at Cross Creek Farm Canine Water Sports. If you haven’t been here yet – you’re in for a treat! \nTO REGISTER:  Click the link at “Website” field below under the “Details” column. That will take you to the JotForm registration form.
URL:https://flyingk9s.org/event/buckeye-bash-2026/
LOCATION:Cross Creek Farms\, 2200 Black Road\, New Richmond\, Ohio
ATTACH;FMTTYPE=image/png:https://flyingk9s.org/wp-content/uploads/2026/01/SOFK9-New-Website-Graphics-2-BB-South-2024-FB-Post.png
ORGANIZER;CN="Southern Ohio Flying K9s":MAILTO:admin@flyingk9s.org
END:VEVENT
BEGIN:VEVENT
DTSTART;TZID=America/New_York:20260912T080000
DTEND;TZID=America/New_York:20260912T170000
DTSTAMP:20260423T073606
CREATED:20260119T091351Z
LAST-MODIFIED:20260307T233831Z
UID:208-1789200000-1789232400@flyingk9s.org
SUMMARY:WWC & Triple Crown
DESCRIPTION:Event Overview\n			\n				\n				\n				\n				\n				World Wide K9 Frisbee Toss & Fetch Championship \nUpDog Triple Crown \nTO REGISTER:  Click the link at “Website” field below under the “Details” column. That will take you to the JotForm registration form.
URL:https://flyingk9s.org/event/wwc-triple-crown/
LOCATION:Gem City Dog Obedience Club\, 542 Valley Crest Drive\, Dayton\, OH\, United States
ATTACH;FMTTYPE=image/png:https://flyingk9s.org/wp-content/uploads/2026/01/SOFK9-New-Website-Graphics-1-3.png
ORGANIZER;CN="Southern Ohio Flying K9s":MAILTO:admin@flyingk9s.org
END:VEVENT
BEGIN:VEVENT
DTSTART;TZID=America/New_York:20261010T080000
DTEND;TZID=America/New_York:20261011T170000
DTSTAMP:20260423T073606
CREATED:20260204T053622Z
LAST-MODIFIED:20260307T233938Z
UID:1152-1791619200-1791738000@flyingk9s.org
SUMMARY:Fall Event 2026
DESCRIPTION:Event Overview\n			\n				\n				\n				\n				\n				More information TBD – Save the date! \nTO REGISTER:  Click the link at “Website” field below under the “Details” column. That will take you to the JotForm registration form.
URL:https://flyingk9s.org/event/fall-event-2026/
LOCATION:Gem City Dog Obedience Club\, 542 Valley Crest Drive\, Dayton\, OH\, United States
ATTACH;FMTTYPE=image/png:https://flyingk9s.org/wp-content/uploads/2026/01/Untitled-4.png
ORGANIZER;CN="Southern Ohio Flying K9s":MAILTO:admin@flyingk9s.org
END:VEVENT
END:VCALENDAR